BEGIN:VCALENDAR
VERSION:2.0
PRODID:-//IT-Forum Rhein-Neckar - ECPv6.15.20//NONSGML v1.0//EN
CALSCALE:GREGORIAN
METHOD:PUBLISH
X-ORIGINAL-URL:https://itforum.de
X-WR-CALDESC:Veranstaltungen für IT-Forum Rhein-Neckar
REFRESH-INTERVAL;VALUE=DURATION:PT1H
X-Robots-Tag:noindex
X-PUBLISHED-TTL:PT1H
BEGIN:VTIMEZONE
TZID:Europe/Berlin
BEGIN:DAYLIGHT
TZOFFSETFROM:+0100
TZOFFSETTO:+0200
TZNAME:CEST
DTSTART:20250330T010000
END:DAYLIGHT
BEGIN:STANDARD
TZOFFSETFROM:+0200
TZOFFSETTO:+0100
TZNAME:CET
DTSTART:20251026T010000
END:STANDARD
BEGIN:DAYLIGHT
TZOFFSETFROM:+0100
TZOFFSETTO:+0200
TZNAME:CEST
DTSTART:20260329T010000
END:DAYLIGHT
BEGIN:STANDARD
TZOFFSETFROM:+0200
TZOFFSETTO:+0100
TZNAME:CET
DTSTART:20261025T010000
END:STANDARD
BEGIN:DAYLIGHT
TZOFFSETFROM:+0100
TZOFFSETTO:+0200
TZNAME:CEST
DTSTART:20270328T010000
END:DAYLIGHT
BEGIN:STANDARD
TZOFFSETFROM:+0200
TZOFFSETTO:+0100
TZNAME:CET
DTSTART:20271031T010000
END:STANDARD
END:VTIMEZONE
BEGIN:VEVENT
DTSTART;TZID=Europe/Berlin:20260424T083000
DTEND;TZID=Europe/Berlin:20260424T100000
DTSTAMP:20260419T185628
CREATED:20260408T065641Z
LAST-MODIFIED:20260409T083243Z
UID:7108-1777019400-1777024800@itforum.de
SUMMARY:BITMi Breakfast in Speyer
DESCRIPTION:BITMi Breakfast: Netzwerken bei einem gemeinsamen Frühstück \nWir laden Sie herzlich ein zum BITMi Breakfast am 24. April 2026 in Speyer! Gemeinsam mit unseren zwei Co-Gastgebern\, dem IT-Forum Rhein-Neckar und GoodSpaces\, starten wir mit Ihnen in einen Morgen voller Austausch\, Impulse und Diskussion. \nWas erwartet Sie? \nDas BITMi Breakfast ist mehr als nur ein Frühstück – es ist ein Format für Unternehmertum. Nutzen Sie diese Gelegenheit\, um Ihr Unternehmensnetzwerk in kürzester Zeit zu erweitern und wertvolle Kontakte zu knüpfen. Ob etabliertes Unternehmen oder aufstrebendes Start-up – dieses Netzwerkformat bietet Ihnen eine ideale Plattform\, um die Unternehmenslandschaft der Region zu erkunden\, Kooperationen anzubahnen und Impulse für die Zukunft zu setzen. \nBeim BITMi Breakfast geben wir Einblicke in aktuelle Projekte wie das Mittelstand-Digital Zentrum Fokus Mensch und unsere ZIM-Netzwerke – kompakt\, praxisnah und im direkten Austausch. \nAußerdem erwarten Sie zwei spannende Impulsvorträge: \nKai Utzinger stellt in seinem Impuls SOVERIA vor – ein Privacy-Tech-Startup mit EU-first-Ansatz\, das die digitale Exposition von Führungskräften sichtbar macht und Unternehmen dabei unterstützt\, ein oft unterschätztes Einfallstor für Social Engineering und Reputationsrisiken zu schließen. \nSebastian Hartung zeigt in seinem Vortrag „Von Trial & Error zu echtem Mehrwert: Wie emori KI nachhaltig einsetzt“\, wie emori mit einem kleinen Team vom ersten Prototypen bis zur marktfähigen App künstliche Intelligenz nutzt\, daraus lernt und nachhaltige Systeme schafft\, die echten Mehrwert für die Nutzer:innen bieten. \nIn entspannter Frühstücksatmosphäre\, ohne feste Agenda\, stehen das Netzwerken und der persönliche Austausch im Mittelpunkt. Von BITMi-Seite informieren wir Sie über aktuelle Entwicklungen und sind gespannt auf die Themen\, die Sie bewegen. \nAnmeldung bitte hier direkt beim BITMi. \nVeranstaltungsdetails: \nWann? 24. April 2026 | 8:30 Uhr \nWo? RheinVilla\, Hafenstr. 39\, 67346 Speyer \nFrühstück? Wir sorgen für Ihr leibliches Wohl! \nHinweis: Während der Veranstaltung werden Fotos gemacht. \nMelden Sie sich jetzt an und starten Sie mit uns in einen erfolgreichen Tag!
URL:https://itforum.de/event/bitmi-breakfast-in-speyer/
END:VEVENT
END:VCALENDAR